BEGIN:VCALENDAR
VERSION:2.0
PRODID:-//Life Christian Academy - ECPv5.4.0//NONSGML v1.0//EN
CALSCALE:GREGORIAN
METHOD:PUBLISH
X-WR-CALNAME:Life Christian Academy
X-ORIGINAL-URL:http://lifechristian-academy.com
X-WR-CALDESC:Events for Life Christian Academy
BEGIN:VTIMEZONE
TZID:America/Halifax
BEGIN:DAYLIGHT
TZOFFSETFROM:-0400
TZOFFSETTO:-0300
TZNAME:ADT
DTSTART:20160313T060000
END:DAYLIGHT
BEGIN:STANDARD
TZOFFSETFROM:-0300
TZOFFSETTO:-0400
TZNAME:AST
DTSTART:20161106T050000
END:STANDARD
END:VTIMEZONE
BEGIN:VEVENT
DTSTART;TZID=America/Halifax:20161123T080000
DTEND;TZID=America/Halifax:20161125T170000
DTSTAMP:20260422T195304
CREATED:20161031T130418Z
LAST-MODIFIED:20161031T130418Z
UID:216-1479888000-1480093200@lifechristian-academy.com
SUMMARY:Thanksgiving Break-No School
DESCRIPTION:
URL:http://lifechristian-academy.com/event/thanksgiving-break-no-school/
END:VEVENT
END:VCALENDAR