BEGIN:VCALENDAR
VERSION:2.0
PRODID:-//Life Christian Academy - ECPv5.4.0//NONSGML v1.0//EN
CALSCALE:GREGORIAN
METHOD:PUBLISH
X-WR-CALNAME:Life Christian Academy
X-ORIGINAL-URL:http://lifechristian-academy.com
X-WR-CALDESC:Events for Life Christian Academy
BEGIN:VTIMEZONE
TZID:America/Halifax
BEGIN:DAYLIGHT
TZOFFSETFROM:-0400
TZOFFSETTO:-0300
TZNAME:ADT
DTSTART:20170312T060000
END:DAYLIGHT
BEGIN:STANDARD
TZOFFSETFROM:-0300
TZOFFSETTO:-0400
TZNAME:AST
DTSTART:20171105T050000
END:STANDARD
END:VTIMEZONE
BEGIN:VEVENT
DTSTART;TZID=America/Halifax:20171009T080000
DTEND;TZID=America/Halifax:20171009T170000
DTSTAMP:20260422T113110
CREATED:20170822T151046Z
LAST-MODIFIED:20170822T151046Z
UID:340-1507536000-1507568400@lifechristian-academy.com
SUMMARY:Teacher Workday-No School
DESCRIPTION:
URL:http://lifechristian-academy.com/event/teacher-workday-no-school/
END:VEVENT
END:VCALENDAR