BEGIN:VCALENDAR
VERSION:2.0
PRODID:-//Life Christian Academy - ECPv5.4.0//NONSGML v1.0//EN
CALSCALE:GREGORIAN
METHOD:PUBLISH
X-WR-CALNAME:Life Christian Academy
X-ORIGINAL-URL:http://lifechristian-academy.com
X-WR-CALDESC:Events for Life Christian Academy
BEGIN:VTIMEZONE
TZID:America/Halifax
BEGIN:DAYLIGHT
TZOFFSETFROM:-0400
TZOFFSETTO:-0300
TZNAME:ADT
DTSTART:20200308T060000
END:DAYLIGHT
BEGIN:STANDARD
TZOFFSETFROM:-0300
TZOFFSETTO:-0400
TZNAME:AST
DTSTART:20201101T050000
END:STANDARD
END:VTIMEZONE
BEGIN:VEVENT
DTSTART;TZID=America/Halifax:20200317T093000
DTEND;TZID=America/Halifax:20200317T113000
DTSTAMP:20260424T135859
CREATED:20200218T135255Z
LAST-MODIFIED:20200218T135255Z
UID:796-1584437400-1584444600@lifechristian-academy.com
SUMMARY:Orthodox Cathedral-7th Grade Field Trip
DESCRIPTION:Our 7th graders will be traveling to Saint Constantine and Helen Greek Orthodox Cathedral on March 17th. They will leave campus at 9:30 am and return by 11:30 am. The cost for this trip is $3.
URL:http://lifechristian-academy.com/event/orthodox-cathedral-7th-grade-field-trip/
CATEGORIES:Field trip
END:VEVENT
END:VCALENDAR