BEGIN:VCALENDAR
VERSION:2.0
PRODID:-//Life Christian Academy - ECPv5.4.0//NONSGML v1.0//EN
CALSCALE:GREGORIAN
METHOD:PUBLISH
X-WR-CALNAME:Life Christian Academy
X-ORIGINAL-URL:http://lifechristian-academy.com
X-WR-CALDESC:Events for Life Christian Academy
BEGIN:VTIMEZONE
TZID:America/Halifax
BEGIN:DAYLIGHT
TZOFFSETFROM:-0400
TZOFFSETTO:-0300
TZNAME:ADT
DTSTART:20190310T060000
END:DAYLIGHT
BEGIN:STANDARD
TZOFFSETFROM:-0300
TZOFFSETTO:-0400
TZNAME:AST
DTSTART:20191103T050000
END:STANDARD
END:VTIMEZONE
BEGIN:VEVENT
DTSTART;VALUE=DATE:20190524
DTEND;VALUE=DATE:20190525
DTSTAMP:20260422T173727
CREATED:20190425T122927Z
LAST-MODIFIED:20190425T123859Z
UID:644-1558656000-1558742399@lifechristian-academy.com
SUMMARY:No School-Memorial Weekend
DESCRIPTION:
URL:http://lifechristian-academy.com/event/no-school-memorial-weekend/
END:VEVENT
END:VCALENDAR