BEGIN:VCALENDAR
VERSION:2.0
PRODID:-//Life Christian Academy - ECPv5.4.0//NONSGML v1.0//EN
CALSCALE:GREGORIAN
METHOD:PUBLISH
X-WR-CALNAME:Life Christian Academy
X-ORIGINAL-URL:http://lifechristian-academy.com
X-WR-CALDESC:Events for Life Christian Academy
BEGIN:VTIMEZONE
TZID:America/Halifax
BEGIN:DAYLIGHT
TZOFFSETFROM:-0400
TZOFFSETTO:-0300
TZNAME:ADT
DTSTART:20220313T060000
END:DAYLIGHT
BEGIN:STANDARD
TZOFFSETFROM:-0300
TZOFFSETTO:-0400
TZNAME:AST
DTSTART:20221106T050000
END:STANDARD
END:VTIMEZONE
BEGIN:VEVENT
DTSTART;TZID=America/Halifax:20220331T083000
DTEND;TZID=America/Halifax:20220331T140000
DTSTAMP:20260426T004342
CREATED:20220323T124526Z
LAST-MODIFIED:20220323T124526Z
UID:1100-1648715400-1648735200@lifechristian-academy.com
SUMMARY:MS Field Trip-Defy Trampoline Park
DESCRIPTION:MS will be traveling to Defy Trampoline Park on Thursday\, March 31st. The cost for this field trip is $20 for students and free for chaperones. Students are asked to bring additional money for lunch\, as everyone will be stopping on their way back to campus to eat. Students are to wear his or her field trip t-shirt.
URL:http://lifechristian-academy.com/event/ms-field-trip-defy-trampoline-park/
END:VEVENT
END:VCALENDAR