BEGIN:VCALENDAR
VERSION:2.0
PRODID:-//Life Christian Academy - ECPv5.4.0//NONSGML v1.0//EN
CALSCALE:GREGORIAN
METHOD:PUBLISH
X-WR-CALNAME:Life Christian Academy
X-ORIGINAL-URL:http://lifechristian-academy.com
X-WR-CALDESC:Events for Life Christian Academy
BEGIN:VTIMEZONE
TZID:America/Halifax
BEGIN:DAYLIGHT
TZOFFSETFROM:-0400
TZOFFSETTO:-0300
TZNAME:ADT
DTSTART:20200308T060000
END:DAYLIGHT
BEGIN:STANDARD
TZOFFSETFROM:-0300
TZOFFSETTO:-0400
TZNAME:AST
DTSTART:20201101T050000
END:STANDARD
END:VTIMEZONE
BEGIN:VEVENT
DTSTART;TZID=America/Halifax:20200331T083000
DTEND;TZID=America/Halifax:20200331T143000
DTSTAMP:20260424T135427
CREATED:20200309T155402Z
LAST-MODIFIED:20200309T155402Z
UID:800-1585643400-1585665000@lifechristian-academy.com
SUMMARY:Middle School Missions Trip
DESCRIPTION:Middle School will be going to Richmond IHOP on March 31st. They will leave campus at 8:30 am and return by 2:30 pm. There is no cost for this trip. Students will need to bring a bagged lunch.
URL:http://lifechristian-academy.com/event/middle-school-missions-trip/
CATEGORIES:Field trip
END:VEVENT
END:VCALENDAR