BEGIN:VCALENDAR
VERSION:2.0
PRODID:-//Life Christian Academy - ECPv5.4.0//NONSGML v1.0//EN
CALSCALE:GREGORIAN
METHOD:PUBLISH
X-WR-CALNAME:Life Christian Academy
X-ORIGINAL-URL:http://lifechristian-academy.com
X-WR-CALDESC:Events for Life Christian Academy
BEGIN:VTIMEZONE
TZID:America/Halifax
BEGIN:DAYLIGHT
TZOFFSETFROM:-0400
TZOFFSETTO:-0300
TZNAME:ADT
DTSTART:20170312T060000
END:DAYLIGHT
BEGIN:STANDARD
TZOFFSETFROM:-0300
TZOFFSETTO:-0400
TZNAME:AST
DTSTART:20171105T050000
END:STANDARD
END:VTIMEZONE
BEGIN:VEVENT
DTSTART;TZID=America/Halifax:20170529T080000
DTEND;TZID=America/Halifax:20170529T170000
DTSTAMP:20260420T080135
CREATED:20170102T133117Z
LAST-MODIFIED:20170102T133117Z
UID:251-1496044800-1496077200@lifechristian-academy.com
SUMMARY:Memorial Day-No School
DESCRIPTION:
URL:http://lifechristian-academy.com/event/memorial-day-no-school/
END:VEVENT
END:VCALENDAR