BEGIN:VCALENDAR
VERSION:2.0
PRODID:-//Life Christian Academy - ECPv5.4.0//NONSGML v1.0//EN
CALSCALE:GREGORIAN
METHOD:PUBLISH
X-WR-CALNAME:Life Christian Academy
X-ORIGINAL-URL:http://lifechristian-academy.com
X-WR-CALDESC:Events for Life Christian Academy
BEGIN:VTIMEZONE
TZID:America/Halifax
BEGIN:DAYLIGHT
TZOFFSETFROM:-0400
TZOFFSETTO:-0300
TZNAME:ADT
DTSTART:20170312T060000
END:DAYLIGHT
BEGIN:STANDARD
TZOFFSETFROM:-0300
TZOFFSETTO:-0400
TZNAME:AST
DTSTART:20171105T050000
END:STANDARD
END:VTIMEZONE
BEGIN:VEVENT
DTSTART;TZID=America/Halifax:20170427T090000
DTEND;TZID=America/Halifax:20170427T143000
DTSTAMP:20260425T190703
CREATED:20170404T143334Z
LAST-MODIFIED:20170404T143334Z
UID:292-1493283600-1493303400@lifechristian-academy.com
SUMMARY:Kindergarten Field Trip to Children's Museum
DESCRIPTION:Our kindergarten class will be going to the Children’s Museum on April 27th. They will leave campus at 9 am and return by 2:30 pm. Please wear your field trip t-shirts and pack a lunch. Details on pricing will be announced shortly.
URL:http://lifechristian-academy.com/event/kindergarten-field-trip-to-childrens-museum/
END:VEVENT
END:VCALENDAR