BEGIN:VCALENDAR
VERSION:2.0
PRODID:-//Life Christian Academy - ECPv5.4.0//NONSGML v1.0//EN
CALSCALE:GREGORIAN
METHOD:PUBLISH
X-WR-CALNAME:Life Christian Academy
X-ORIGINAL-URL:http://lifechristian-academy.com
X-WR-CALDESC:Events for Life Christian Academy
BEGIN:VTIMEZONE
TZID:America/Halifax
BEGIN:DAYLIGHT
TZOFFSETFROM:-0400
TZOFFSETTO:-0300
TZNAME:ADT
DTSTART:20160313T060000
END:DAYLIGHT
BEGIN:STANDARD
TZOFFSETFROM:-0300
TZOFFSETTO:-0400
TZNAME:AST
DTSTART:20161106T050000
END:STANDARD
END:VTIMEZONE
BEGIN:VEVENT
DTSTART;TZID=America/Halifax:20161212T093000
DTEND;TZID=America/Halifax:20161212T123000
DTSTAMP:20260425T210925
CREATED:20161116T145303Z
LAST-MODIFIED:20161116T145501Z
UID:221-1481535000-1481545800@lifechristian-academy.com
SUMMARY:Field Trip To Nursing Home
DESCRIPTION:1st through 3rd grade will be going to the Crossings Nursing Home to spread some Christmas Cheer to the residents! They will be leaving at 9:30 am and returning at 12:30 pm. There is no cost for this trip.
URL:http://lifechristian-academy.com/event/field-trip-to-nursing-home/
CATEGORIES:Field trip
END:VEVENT
END:VCALENDAR