BEGIN:VCALENDAR
VERSION:2.0
PRODID:-//Life Christian Academy - ECPv5.4.0//NONSGML v1.0//EN
CALSCALE:GREGORIAN
METHOD:PUBLISH
X-WR-CALNAME:Life Christian Academy
X-ORIGINAL-URL:http://lifechristian-academy.com
X-WR-CALDESC:Events for Life Christian Academy
BEGIN:VTIMEZONE
TZID:America/Halifax
BEGIN:DAYLIGHT
TZOFFSETFROM:-0400
TZOFFSETTO:-0300
TZNAME:ADT
DTSTART:20220313T060000
END:DAYLIGHT
BEGIN:STANDARD
TZOFFSETFROM:-0300
TZOFFSETTO:-0400
TZNAME:AST
DTSTART:20221106T050000
END:STANDARD
END:VTIMEZONE
BEGIN:VEVENT
DTSTART;TZID=America/Halifax:20220114T080000
DTEND;TZID=America/Halifax:20220114T170000
DTSTAMP:20260422T232605
CREATED:20210331T135828Z
LAST-MODIFIED:20210331T135828Z
UID:953-1642147200-1642179600@lifechristian-academy.com
SUMMARY:Early Release-End of 2nd 9 Weeks
DESCRIPTION:
URL:http://lifechristian-academy.com/event/early-release-end-of-2nd-9-weeks/
END:VEVENT
END:VCALENDAR