BEGIN:VCALENDAR
VERSION:2.0
PRODID:-//Life Christian Academy - ECPv5.4.0//NONSGML v1.0//EN
CALSCALE:GREGORIAN
METHOD:PUBLISH
X-WR-CALNAME:Life Christian Academy
X-ORIGINAL-URL:http://lifechristian-academy.com
X-WR-CALDESC:Events for Life Christian Academy
BEGIN:VTIMEZONE
TZID:America/Halifax
BEGIN:DAYLIGHT
TZOFFSETFROM:-0400
TZOFFSETTO:-0300
TZNAME:ADT
DTSTART:20170312T060000
END:DAYLIGHT
BEGIN:STANDARD
TZOFFSETFROM:-0300
TZOFFSETTO:-0400
TZNAME:AST
DTSTART:20171105T050000
END:STANDARD
END:VTIMEZONE
BEGIN:VEVENT
DTSTART;TZID=America/Halifax:20170907T183000
DTEND;TZID=America/Halifax:20170907T203000
DTSTAMP:20260425T125655
CREATED:20170822T150917Z
LAST-MODIFIED:20170822T154403Z
UID:336-1504809000-1504816200@lifechristian-academy.com
SUMMARY:Back-to-School Bash
DESCRIPTION:Back-to-School Bash will begin at 6:30 pm in the main sanctuary. You will be dismissed from there to visit your child/children’s classroom and teacher.
URL:http://lifechristian-academy.com/event/back-to-school-bash/
END:VEVENT
END:VCALENDAR