BEGIN:VCALENDAR
VERSION:2.0
PRODID:-//Life Christian Academy - ECPv5.4.0//NONSGML v1.0//EN
CALSCALE:GREGORIAN
METHOD:PUBLISH
X-WR-CALNAME:Life Christian Academy
X-ORIGINAL-URL:http://lifechristian-academy.com
X-WR-CALDESC:Events for Life Christian Academy
BEGIN:VTIMEZONE
TZID:America/Halifax
BEGIN:DAYLIGHT
TZOFFSETFROM:-0400
TZOFFSETTO:-0300
TZNAME:ADT
DTSTART:20160313T060000
END:DAYLIGHT
BEGIN:STANDARD
TZOFFSETFROM:-0300
TZOFFSETTO:-0400
TZNAME:AST
DTSTART:20161106T050000
END:STANDARD
END:VTIMEZONE
BEGIN:VEVENT
DTSTART;TZID=America/Halifax:20161108T091500
DTEND;TZID=America/Halifax:20161108T143000
DTSTAMP:20260422T205932
CREATED:20161017T162954Z
LAST-MODIFIED:20161017T163722Z
UID:200-1478596500-1478615400@lifechristian-academy.com
SUMMARY:5th Grade Field Trip to Lucky Lake Gem Mine
DESCRIPTION:Our 5th graders will be going to Lucky Lake Gem Mine on November 8th. They will be leaving campus at 9:15 am and returning by 2:30 pm. The cost for the trip is $20. They will need to pack a lunch\, and wear clothes for the weather. There is a gift shop\, so additional money may be brought if desired.
URL:http://lifechristian-academy.com/event/5th-grade-field-trip-to-lucky-lake-gem-mine/
CATEGORIES:Field trip
END:VEVENT
END:VCALENDAR